BEGIN:VCALENDAR
VERSION:2.0
PRODID:-//Boom Chakra Laka - ECPv6.15.16//NONSGML v1.0//EN
CALSCALE:GREGORIAN
METHOD:PUBLISH
X-WR-CALNAME:Boom Chakra Laka
X-ORIGINAL-URL:https://boomchakralaka.org
X-WR-CALDESC:Events for Boom Chakra Laka
REFRESH-INTERVAL;VALUE=DURATION:PT1H
X-Robots-Tag:noindex
X-PUBLISHED-TTL:PT1H
BEGIN:VTIMEZONE
TZID:UTC
BEGIN:STANDARD
TZOFFSETFROM:+0000
TZOFFSETTO:+0000
TZNAME:UTC
DTSTART:20250101T000000
END:STANDARD
END:VTIMEZONE
BEGIN:VEVENT
DTSTART;TZID=UTC:20260425T190000
DTEND;TZID=UTC:20260425T220000
DTSTAMP:20260420T094140
CREATED:20260222T180048Z
LAST-MODIFIED:20260402T123252Z
UID:436-1777143600-1777154400@boomchakralaka.org
SUMMARY:Tanz der Archetypen
DESCRIPTION:Kursbeitrag: 35€\nVorort · Tageskasse · Barzahlung\n\nOnline Tickets\n\neversports\n\noeticket (zzgl. Vvk-Gebühr)\n\n\n\nReservierungen\n\n\n\nWhatsApp · 0650 9250869\n \n\n\nE-Mail · hallo@boomchakralaka.org\n \n\n\nSMS · 0650 9250869\n \n\n\n\nTanz der Archetypen\nTanzritual und kreative Selbsterfahrung\n\n\n\nIm Archetypen-Tanz wird etwas erfahrbar. Du bewegst und verkörperst Figuren aus der Mythologie\, die laut C. G. Jung das kollektive Unbewusste prägen – Urformen menschlicher Erfahrung\, die in uns allen angelegt sind. Jede Figur bringt eine eigene Qualität mit: roh und erdig\, klar und fokussiert\, würdevoll\, verspielt\, sanft\, geheimnisvoll\, still. Zu ihnen zählen u. a. der Wilde\, die Liebende\, der Krieger\, die Königin\, der Narr\, der Magier und die Weise. \nÜber diese Bilder erlaubst du dir Bewegungen und Haltungen\, die dein Alltags-Ich sich oft nicht zugesteht: Vielleicht warst du noch nie „königlich“ unterwegs\, noch nie wirklich wild\, noch nie völlig verrückt oder radikal sanft. Im Tanz der Archetypen darfst du das ausprobieren und genau dadurch wandelt sich etwas in dir. Über Bewegung\, Atem und Stimme gehst du auf eine Reise durch den gesamten Körper\, durch sieben Energiezentren (Chakren) und durch sieben elementare Persönlichkeitsanteile. \nJeder Archetyp hat auch eine Stimme – und diese wird zum tanzenden Teil des Körpers\, ein Bereich\, der bei vielen Menschen oft blockiert oder gehemmt ist und hier spielerisch Raum bekommt. Im Tanz der Archetypen kannst Du entdecken\, welche Persönlichkeitsanteile mehr Aufmerksamkeit und Energie brauchen\, und sie ihnen zukommen lassen. \nMusikalisch-rituelles Konzept Der tänzerische Verlauf basiert auf einer präzise kuratierten Musikauswahl (Live & DJ) und Moderation von Ulf Lindemann alias [dunkelbunt]. Er bringt nicht nur seine langjährige Erfahrung als DJ und Pianist ein\, sondern auch seine langjährige Erfahrung und Praxis als aktiver Tänzer\, Akteur und Instructor im tanztherapeutischen & selbsterfahrenden Spektrum. \nIm Jahr 2025 gründet er die Concious Dance Institution Boom Chakra Laka und gestaltet verschiedene Tanzrituale mit Impulsen aus der transformativen Tanz- und rituellen Gestalttherapie\, 5Rhythmen\, Chakren- und Resonanzlehre\, Yoga & Dynamischer Meditation. \nMitbringen: Kleidung\, Decke\nKomm in bequemer Kleidung\, in der du dich wohl fühlst und gut bewegen kannst! Es gibt vor Ort Garderoben (mit Duschen). Bring auch etwas Warmes zum Überziehen und Wechseln mit sowie eine Decke oder Yogamatte für die End-Meditation/Sound Journey. \nGeleitet und musikalisch begleitet von Ulf Jochen Lindemann alias [dunkelbunt] \nTermin\, Ort & Preis\nKursbeitrag: 35 €\nDauer: 3 Stunden \nTermine bis zur Sommerpause:\nSa 25.04.26 | 19–22 Uhr\nSa 16.05.26 | 18–21 Uhr\nSa 20.06.26 | 18–21 Uhr \nMonatlich im NordbahnSaal\nNordbahnSaal\, Bruno-Marek-Allee 5\, 1020 Wien \nfollow us: \nwww.instagram.com/boom_chakra_laka_vienna\nwww.instagram.com/dunkelbunt_music\nwww.dunkelbunt.org/boom-chakra-laka \n  \n\n\n\n 
URL:https://boomchakralaka.org/event/tanzderarchetypen-april/
LOCATION:NordbahnSaal\, Bruno-Marek-Allee 5\, Wien\, 1020\, Austria
CATEGORIES:Tanz der Archetpyen
ATTACH;FMTTYPE=image/png:https://boomchakralaka.org/wp-content/uploads/2026/02/1.png
ORGANIZER;CN="Boom Chakra Laka":MAILTO:ulflindemann@gmail.com
END:VEVENT
BEGIN:VEVENT
DTSTART;TZID=UTC:20260426T110000
DTEND;TZID=UTC:20260426T110000
DTSTAMP:20260420T094140
CREATED:20260310T190117Z
LAST-MODIFIED:20260411T130254Z
UID:607-1777201200-1777201200@boomchakralaka.org
SUMMARY:Sun Dance - Ecstatic Dance
DESCRIPTION:SUN DANCE mit [dunkelbunt]
URL:https://boomchakralaka.org/event/ecstatic-dance-sun-dance-april/
LOCATION:TurnSaal\, GRg2 Zirkusgasse Weintraubengasse 29\, Wien
CATEGORIES:Ecstatic Dance
ATTACH;FMTTYPE=image/jpeg:https://boomchakralaka.org/wp-content/uploads/2026/03/PHOTO-2026-02-26-10-14-41.jpg
END:VEVENT
BEGIN:VEVENT
DTSTART;TZID=UTC:20260515T190000
DTEND;TZID=UTC:20260515T220000
DTSTAMP:20260420T094140
CREATED:20260410T160620Z
LAST-MODIFIED:20260410T160620Z
UID:653-1778871600-1778882400@boomchakralaka.org
SUMMARY:Ecstatic Dance - Into The Wild
DESCRIPTION:
URL:https://boomchakralaka.org/event/ecstatic-dance-into-the-wild/
LOCATION:NordbahnSaal\, Bruno-Marek-Allee 5\, Wien\, 1020\, Austria
CATEGORIES:Ecstatic Dance
ATTACH;FMTTYPE=image/png:https://boomchakralaka.org/wp-content/uploads/2026/04/Tanz-der-Archetypen.png
ORGANIZER;CN="Boom Chakra Laka":MAILTO:ulflindemann@gmail.com
END:VEVENT
BEGIN:VEVENT
DTSTART;TZID=UTC:20260516T100000
DTEND;TZID=UTC:20260516T100000
DTSTAMP:20260420T094140
CREATED:20260220T111542Z
LAST-MODIFIED:20260402T095230Z
UID:471-1778925600-1778925600@boomchakralaka.org
SUMMARY:Yogisches Tanzen
DESCRIPTION:Termin\, Ort & Preis\nYogisches Tanzen in Wien ist ein monatliches Tanzritual im NordbahnSaal zwischen Bewegung\, Meditation und Musik. \nMonatlich im NordbahnSaal\nNordbahnSaal\, Bruno-Marek-Allee 5\, 1020 Wien \nWeitere Termine bis zur Sommerpause:\nSa 21.03.26 · Sa 25.04.26 · Sa 16.05.26 · Sa 20.06.26 \nAlle Conscious Dance Termine in Wien ansehen → \n \n\nKursbeitrag: 25€\nVorort · Tageskasse · Barzahlung\n\nOnline Tickets\n\n\neversports\n \n\noeticket (zzgl. Vvk-Gebühr)\n \n\n\n\nReservierungen\n\n\nWhatsApp · 0650 9250869\n \n\nE-Mail · hallo@boomchakralaka.org\n \n\nSMS · 0650 9250869\n \n\n\n\nYogisches Tanzen – Asanas & Chakras in Motion\nGeleitet und musikalisch begleitet von Lisa Neunteufl & Ulf Jochen Lindemann alias [dunkelbunt] \nYogisches Tanzen verbindet Yoga-Elemente mit freier Bewegung\, Tanz und Musik. Wir atmen\, dehnen\, schütteln\, kommen ins Schwitzen und wieder zur Ruhe. Die Stunde wechselt zwischen angeleiteten Sequenzen und freien Phasen\, in denen du deinen eigenen Bewegungen folgen kannst. \nYogisches Tanzen ist eine Einladung\, dich von Musik und Körpergefühl führen zu lassen. Wenn die Musik läuft\, nimmst du wahr\, was dein Körper im Moment braucht – und folgst dieser Bewegung ganz intuitiv. Du kannst in einer Haltung verweilen\, sie sanft verändern\, darin „wandern“ und spielerisch erkunden. Im Mittelpunkt stehen das Hineinspüren\, das Wahrnehmen und ein freundlicher\, offener Umgang mit dem eigenen Körper. \nEs gibt dabei auch angeleitete Impulse aus zwei Richtungen: Lisa bringt ihre Erfahrung als Yogalehrerin ein und gibt klare\, gut nachvollziehbare Zugänge aus dem Yoga. Ulf kommt aus Tanz und Selbsterfahrung und ergänzt das mit Bewegungsimpulsen\, die manchmal weiter in Ausdruck\, Intensität und körperliche Tiefe führen. \nEin besonderer Aspekt ist\, dass wir Asanas in Bewegung bringen. Yogahaltungen werden nicht als starre Form verstanden\, sondern als Ausgangspunkt. Gerade bei anspruchsvolleren Haltungen darf es lebendig werden: kleine Variationen\, Schaukeln\, Übergänge\, eine andere Richtung – alles\, was dem Körper hilft\, die Qualität der Haltung zu finden\, ohne sich in „richtig oder falsch“ zu verlieren. \nZusätzlich arbeiten wir mit den Chakren\, ebenfalls auf eine sehr körperliche und praktische Weise. Statt etwas „spüren zu müssen“\, das vielleicht gerade nicht da ist\, nähern wir uns den Energiezentren über Archetypen: Wir verkörpern bestimmte Qualitäten und Figuren tänzerisch – mit Haltung\, Stimme und Atmung. Jeder Archetyp ist mit einer Körperregion und einem Chakra verbunden. So entsteht ein Zugang\, der weniger über Vorstellungskraft läuft und mehr über konkretes Erleben: Ausdruck erzeugt Resonanz\, und darüber wird die jeweilige Region oft ganz natürlich präsenter. \nNach dem intensiv-dynamischen Teil verweben sich Lisa Cantabiles sanfter Gesang und [dunkelbunt]s feinfühliges Klavierspiel zu einem wohlig-heilsamen Klangteppich. Eingehüllt in Sound und Vibration kannst du dich in einen Zustand zwischen Wachsein und Schlaf sinken lassen. \nGeeignet für alle Levels – keinerlei Vorkenntnisse nötig. \nGeleitet und musikalisch begleitet von Lisa Neunteufl & Ulf Jochen Lindemann alias [dunkelbunt] \n\nMitbringen: Kleidung\, Decke\nKomm in bequemer Kleidung\, in der du dich wohl fühlst und gut bewegen kannst! Es gibt vor Ort Garderoben (mit Duschen). Bring auch etwas Warmes zum Überziehen und Wechseln mit sowie eine Decke oder Yogamatte für die End-Meditation/Sound Journey. \nAlle Boom Chakra Laka Termine in Wien ansehen → \n∴ Musikbeispiel\nDJ (Auszug) \n\n \nLive Piano (Auszug) \n\n \n\n \n∴ Follow & Connect\nBoom Chakra Laka\nInstagram \ndunkelbunt\nInstagram \nWeitere Informationen\ndunkelbunt.org / Boom Chakra Laka \n→ Alle Termine im Kalender ansehen
URL:https://boomchakralaka.org/event/yogisches-tanzen-dunkelbunt-mai/
LOCATION:NordbahnSaal\, Bruno-Marek-Allee 5\, Wien\, 1020\, Austria
CATEGORIES:Boom Chakra Laka,Yogisches Tanzen
ATTACH;FMTTYPE=image/png:https://boomchakralaka.org/wp-content/uploads/2026/02/2-1.png
ORGANIZER;CN="Boom Chakra Laka":MAILTO:ulflindemann@gmail.com
END:VEVENT
BEGIN:VEVENT
DTSTART;TZID=UTC:20260516T180000
DTEND;TZID=UTC:20260516T180000
DTSTAMP:20260420T094140
CREATED:20260222T201048Z
LAST-MODIFIED:20260402T123417Z
UID:437-1778954400-1778954400@boomchakralaka.org
SUMMARY:Tanz der Archetypen
DESCRIPTION:Kursbeitrag: 35€\nVorort · Tageskasse · Barzahlung\n\nOnline Tickets\n\neversports\n\noeticket (zzgl. Vvk-Gebühr)\n\n\n\nReservierungen\n\n\n\nWhatsApp · 0650 9250869\n \n\n\nE-Mail · hallo@boomchakralaka.org\n \n\n\nSMS · 0650 9250869\n \n\n\n\n\n\n\nTanz der Archetypen\nTanzritual und kreative Selbsterfahrung\n\n\n\nIm Archetypen-Tanz wird etwas erfahrbar. Du bewegst und verkörperst Figuren aus der Mythologie\, die laut C. G. Jung das kollektive Unbewusste prägen – Urformen menschlicher Erfahrung\, die in uns allen angelegt sind. Jede Figur bringt eine eigene Qualität mit: roh und erdig\, klar und fokussiert\, würdevoll\, verspielt\, sanft\, geheimnisvoll\, still. Zu ihnen zählen u. a. der Wilde\, die Liebende\, der Krieger\, die Königin\, der Narr\, der Magier und die Weise. \n\n\n\nÜber diese Bilder erlaubst du dir Bewegungen und Haltungen\, die dein Alltags-Ich sich oft nicht zugesteht: Vielleicht warst du noch nie „königlich“ unterwegs\, noch nie wirklich wild\, noch nie völlig verrückt oder radikal sanft. Im Tanz der Archetypen darfst du das ausprobieren und genau dadurch wandelt sich etwas in dir. Über Bewegung\, Atem und Stimme gehst du auf eine Reise durch den gesamten Körper\, durch sieben Energiezentren (Chakren) und durch sieben elementare Persönlichkeitsanteile. \nJeder Archetyp hat auch eine Stimme – und diese wird zum tanzenden Teil des Körpers\, ein Bereich\, der bei vielen Menschen oft blockiert oder gehemmt ist und hier spielerisch Raum bekommt. Im Tanz der Archetypen kannst Du entdecken\, welche Persönlichkeitsanteile mehr Aufmerksamkeit und Energie brauchen\, und sie ihnen zukommen lassen. \nMusikalisch-rituelles Konzept Der tänzerische Verlauf basiert auf einer präzise kuratierten Musikauswahl (Live & DJ) und Moderation von Ulf Lindemann alias [dunkelbunt]. Er bringt nicht nur seine langjährige Erfahrung als DJ und Pianist ein\, sondern auch seine langjährige Erfahrung und Praxis als aktiver Tänzer\, Akteur und Instructor im tanztherapeutischen & selbsterfahrenden Spektrum. Im Jahr 2025 gründet er die Concious Dance Institution Boom Chakra Laka und gestaltet verschiedene Tanzrituale mit Impulsen aus der transformativen Tanz- und rituellen Gestalttherapie\, 5Rhythmen\, Chakren- und Resonanzlehre\, Yoga & Dynamischer Meditation. \nMitbringen: Kleidung\, Decke\nKomm in bequemer Kleidung\, in der du dich wohl fühlst und gut bewegen kannst! Es gibt vor Ort Garderoben (mit Duschen). Bring auch etwas Warmes zum Überziehen und Wechseln mit sowie eine Decke oder Yogamatte für die End-Meditation/Sound Journey. \nGeleitet und musikalisch begleitet von Ulf Jochen Lindemann alias [dunkelbunt] \nTermin\, Ort & Preis\nKursbeitrag: 35 €\nDauer: 3 Stunden \nTermine bis zur Sommerpause:\nSa 21.03.26 | 19–22 Uhr\nSa 25.04.26 | 18–21 Uhr\nSa 16.05.26 | 18–21 Uhr\nSa 20.06.26 | 18–21 Uhr \nMonatlich im NordbahnSaal\nNordbahnSaal\, Bruno-Marek-Allee 5\, 1020 Wien \nfollow us: \nwww.instagram.com/boom_chakra_laka_vienna\nwww.instagram.com/dunkelbunt_music\nwww.dunkelbunt.org/boom-chakra-laka \n  \n\n\n\n 
URL:https://boomchakralaka.org/event/tanzderarchetypen-mai/
LOCATION:NordbahnSaal\, Bruno-Marek-Allee 5\, Wien\, 1020\, Austria
CATEGORIES:Tanz der Archetpyen
ATTACH;FMTTYPE=image/png:https://boomchakralaka.org/wp-content/uploads/2026/02/1.png
ORGANIZER;CN="Boom Chakra Laka":MAILTO:ulflindemann@gmail.com
END:VEVENT
BEGIN:VEVENT
DTSTART;TZID=UTC:20260620T180000
DTEND;TZID=UTC:20260620T210000
DTSTAMP:20260420T094140
CREATED:20260222T201048Z
LAST-MODIFIED:20260402T123438Z
UID:438-1781978400-1781989200@boomchakralaka.org
SUMMARY:Tanz der Archetypen
DESCRIPTION:Kursbeitrag: 35€\nVorort · Tageskasse · Barzahlung\n\nOnline Tickets\n\neversports\n\noeticket (zzgl. Vvk-Gebühr)\n\n\n\nReservierungen\n\n\n\nWhatsApp · 0650 9250869\n \n\n\nE-Mail · hallo@boomchakralaka.org\n \n\n\nSMS · 0650 9250869\n \n\n\n\nTanz der Archetypen\n\n\n\nTanzritual und kreative Selbsterfahrung\n\n\n\nIm Archetypen-Tanz wird etwas erfahrbar. Du bewegst und verkörperst Figuren aus der Mythologie\, die laut C. G. Jung das kollektive Unbewusste prägen – Urformen menschlicher Erfahrung\, die in uns allen angelegt sind. Jede Figur bringt eine eigene Qualität mit: roh und erdig\, klar und fokussiert\, würdevoll\, verspielt\, sanft\, geheimnisvoll\, still. Zu ihnen zählen u. a. der Wilde\, die Liebende\, der Krieger\, die Königin\, der Narr\, der Magier und die Weise. \n\n\n\nÜber diese Bilder erlaubst du dir Bewegungen und Haltungen\, die dein Alltags-Ich sich oft nicht zugesteht: Vielleicht warst du noch nie „königlich“ unterwegs\, noch nie wirklich wild\, noch nie völlig verrückt oder radikal sanft. Im Tanz der Archetypen darfst du das ausprobieren und genau dadurch wandelt sich etwas in dir. Über Bewegung\, Atem und Stimme gehst du auf eine Reise durch den gesamten Körper\, durch sieben Energiezentren (Chakren) und durch sieben elementare Persönlichkeitsanteile. \nJeder Archetyp hat auch eine Stimme – und diese wird zum tanzenden Teil des Körpers\, ein Bereich\, der bei vielen Menschen oft blockiert oder gehemmt ist und hier spielerisch Raum bekommt. Im Tanz der Archetypen kannst Du entdecken\, welche Persönlichkeitsanteile mehr Aufmerksamkeit und Energie brauchen\, und sie ihnen zukommen lassen. \nMusikalisch-rituelles Konzept Der tänzerische Verlauf basiert auf einer präzise kuratierten Musikauswahl (Live & DJ) und Moderation von Ulf Lindemann alias [dunkelbunt]. Er bringt nicht nur seine langjährige Erfahrung als DJ und Pianist ein\, sondern auch seine langjährige Erfahrung und Praxis als aktiver Tänzer\, Akteur und Instructor im tanztherapeutischen & selbsterfahrenden Spektrum. Im Jahr 2025 gründet er die Concious Dance Institution Boom Chakra Laka und gestaltet verschiedene Tanzrituale mit Impulsen aus der transformativen Tanz- und rituellen Gestalttherapie\, 5Rhythmen\, Chakren- und Resonanzlehre\, Yoga & Dynamischer Meditation. \nMitbringen: Kleidung\, Decke\nKomm in bequemer Kleidung\, in der du dich wohl fühlst und gut bewegen kannst! Es gibt vor Ort Garderoben (mit Duschen). Bring auch etwas Warmes zum Überziehen und Wechseln mit sowie eine Decke oder Yogamatte für die End-Meditation/Sound Journey. \nGeleitet und musikalisch begleitet von Ulf Jochen Lindemann alias [dunkelbunt] \nTermin\, Ort & Preis\nKursbeitrag: 35 €\nDauer: 3 Stunden \nTermine bis zur Sommerpause:\nSa 21.03.26 | 19–22 Uhr\nSa 25.04.26 | 18–21 Uhr\nSa 16.05.26 | 18–21 Uhr\nSa 20.06.26 | 18–21 Uhr \nMonatlich im NordbahnSaal\nNordbahnSaal\, Bruno-Marek-Allee 5\, 1020 Wien \nfollow us: \nwww.instagram.com/boom_chakra_laka_vienna\nwww.instagram.com/dunkelbunt_music\nwww.dunkelbunt.org/boom-chakra-laka \n  \n\n\n\n 
URL:https://boomchakralaka.org/event/tanzderarchetypen-juni/
LOCATION:NordbahnSaal\, Bruno-Marek-Allee 5\, Wien\, 1020\, Austria
CATEGORIES:Tanz der Archetpyen
ATTACH;FMTTYPE=image/png:https://boomchakralaka.org/wp-content/uploads/2026/02/1.png
ORGANIZER;CN="Boom Chakra Laka":MAILTO:ulflindemann@gmail.com
END:VEVENT
END:VCALENDAR